BEGIN:VCALENDAR
PRODID:-//github.com/rianjs/ical.net//NONSGML ical.net 4.0//EN
VERSION:2.0
BEGIN:VTIMEZONE
TZID:Eastern Standard Time
X-LIC-LOCATION:America/New_York
BEGIN:STANDARD
DTSTART:20191103T020000
RRULE:FREQ=YEARLY;BYDAY=1SU;BYMONTH=11
TZNAME:EST
TZOFFSETFROM:-0400
TZOFFSETTO:-0500
END:STANDARD
BEGIN:DAYLIGHT
DTSTART:20200308T020000
RRULE:FREQ=YEARLY;BYDAY=2SU;BYMONTH=3
TZNAME:EDT
TZOFFSETFROM:-0500
TZOFFSETTO:-0400
END:DAYLIGHT
END:VTIMEZONE
BEGIN:VEVENT
DTEND;TZID=Eastern Standard Time:20210317T170000
DTSTAMP:20210422T102956Z
DTSTART;TZID=Eastern Standard Time:20210317T160000
LOCATION:The committee meets via conference call
ORGANIZER;CN=;SENT-BY="mailto:":
SEQUENCE:0
SUMMARY:Chapter Presidents Meeting
UID:436f91b4-bdb3-4ddb-acdf-cf820c317771
END:VEVENT
END:VCALENDAR
