BEGIN:VCALENDAR
PRODID:-//github.com/rianjs/ical.net//NONSGML ical.net 4.0//EN
VERSION:2.0
BEGIN:VTIMEZONE
TZID:Eastern Standard Time
X-LIC-LOCATION:America/New_York
BEGIN:STANDARD
DTSTART:20191103T020000
RRULE:FREQ=YEARLY;BYDAY=1SU;BYMONTH=11
TZNAME:EST
TZOFFSETFROM:-0400
TZOFFSETTO:-0500
END:STANDARD
BEGIN:DAYLIGHT
DTSTART:20200308T020000
RRULE:FREQ=YEARLY;BYDAY=2SU;BYMONTH=3
TZNAME:EDT
TZOFFSETFROM:-0500
TZOFFSETTO:-0400
END:DAYLIGHT
END:VTIMEZONE
BEGIN:VEVENT
DTEND;TZID=Eastern Standard Time:20210318T150000
DTSTAMP:20210422T103024Z
DTSTART;TZID=Eastern Standard Time:20210318T140000
LOCATION:This forum meets via conference call
ORGANIZER;CN=;SENT-BY="mailto:":
SEQUENCE:0
SUMMARY:Franchising Forum
UID:222dda2a-c6ad-40c1-9435-a31b02c08a00
END:VEVENT
END:VCALENDAR
