BEGIN:VCALENDAR
PRODID:-//github.com/rianjs/ical.net//NONSGML ical.net 4.0//EN
VERSION:2.0
BEGIN:VTIMEZONE
TZID:Eastern Standard Time
X-LIC-LOCATION:America/New_York
BEGIN:STANDARD
DTSTART:20191103T020000
RRULE:FREQ=YEARLY;BYDAY=1SU;BYMONTH=11
TZNAME:EST
TZOFFSETFROM:-0400
TZOFFSETTO:-0500
END:STANDARD
BEGIN:DAYLIGHT
DTSTART:20200308T020000
RRULE:FREQ=YEARLY;BYDAY=2SU;BYMONTH=3
TZNAME:EDT
TZOFFSETFROM:-0500
TZOFFSETTO:-0400
END:DAYLIGHT
END:VTIMEZONE
BEGIN:VEVENT
DTEND;TZID=Eastern Standard Time:20210419T150000
DTSTAMP:20210422T103039Z
DTSTART;TZID=Eastern Standard Time:20210419T140000
LOCATION:None
ORGANIZER;CN=;SENT-BY="mailto:":
SEQUENCE:0
SUMMARY:eNATOA: PEG facilities as "Digital Navigators"
UID:ce564e22-7847-4fe2-a16e-0b1655c20e05
END:VEVENT
END:VCALENDAR
